BEGIN:VCALENDAR
VERSION:2.0
PRODID:-//ChamberMaster//Event Calendar 2.0//EN
METHOD:PUBLISH
X-PUBLISHED-TTL:P3D
REFRESH-INTERVAL:P3D
CALSCALE:GREGORIAN
BEGIN:VEVENT
DTSTART:20201112T140000Z
DTEND:20201112T183000Z
X-MICROSOFT-CDO-ALLDAYEVENT:FALSE
SUMMARY:VIRTUAL Fall Prevention in Residential Construction Training Seminar
DESCRIPTION:VIRTUAL Fall Prevention in Residential Construction Training is presented by the Job Safety Institute and the National Home Builders Association. This training is hosted by the Home Builders Association of East Central Illinois.\n\nThe course will be held LIVE via a Virtual Classroom and will begin promptly at 8a and conclude by 12:30p on THURSDAY November 12. Check-in will begin at 7:30a. \n\n \nPlease have a pen and notebook with you\, along with your computer/tablet and if you have your Personal Fall Arrest Systems near you (harness\, lifelines\, anchor points) the instructor will demonstrate some hands on activities during the course. During the training the instructor will walk through how to wear them properly and inspect the components so it is not necessary for participants to have their own\, but it is welcomed.
X-ALT-DESC;FMTTYPE=text/html:<div class="page" title="Page 3">\n<div class="layoutArea">\n<div class="column">\n<p>VIRTUAL Fall Prevention in Residential Construction Training is presented by the Job Safety Institute and the National Home Builders Association. This training is hosted by the Home Builders&nbsp\;Association of East Central Illinois.</p>\n\n<div>The course will be held LIVE via a Virtual Classroom and will begin promptly at 8a and conclude by 12:30p on THURSDAY November 12. Check-in will begin at 7:30a.&nbsp\;<br />\n&nbsp\;\n<div>Please have a pen and notebook with you\, along with your computer/tablet and if you have&nbsp\;your Personal Fall Arrest Systems near you&nbsp\;(harness\, lifelines\, anchor points) the instructor will demonstrate some hands on activities&nbsp\;during the course. During the training the instructor will walk through how to wear them properly and inspect the components so it is not necessary for participants to have their own\, but it is welcomed.</div>\n</div>\n</div>\n</div>\n</div>\n
LOCATION:LIVE via a Virtual Classroom. Additional log-in details will be sent after registration is confirmed.
UID:e.9422.195
SEQUENCE:3
DTSTAMP:20260423T015133Z
URL:https://hbaeci.org/events/details/virtual-fall-prevention-in-residential-construction-training-seminar-195
END:VEVENT

END:VCALENDAR
