BEGIN:VCALENDAR
VERSION:2.0
PRODID:-//ChamberMaster//Event Calendar 2.0//EN
METHOD:PUBLISH
X-PUBLISHED-TTL:P3D
REFRESH-INTERVAL:P3D
CALSCALE:GREGORIAN
BEGIN:VEVENT
DTSTART:20170811T140000Z
DTEND:20170811T210000Z
X-MICROSOFT-CDO-ALLDAYEVENT:FALSE
SUMMARY:Understanding 2015 IRC Wall Bracing Seminar
DESCRIPTION:The Home Builders Association of East Central Illinois is hosting a training seminar to cover the 2015 IRC Wall Bracing updates.  The Building & Fire Code Academy will present a full day and entertain questions.  Lunch also provided.\n\nThis event is only open to active HBAECI members.  It is complimentary for our members\, thank you to our Board of Directors\, yet you must register to guarantee a seat.
X-ALT-DESC;FMTTYPE=text/html:<p>The Home Builders Association of East Central Illinois is hosting a training seminar to cover the 2015 IRC Wall Bracing updates. &nbsp\;The Building &amp\; Fire Code Academy will present a full day and entertain questions. &nbsp\;Lunch also provided.</p>\n\n<p>This event is only open to active HBAECI members. &nbsp\;It is complimentary for our members\, thank you to our Board of Directors\, yet you must register to guarantee a seat.</p>\n
LOCATION:Champaign Public Library - Robeson Pavilion Room A & B 200 W Green St\, Champaign\, IL 61820
UID:e.9422.160
SEQUENCE:3
DTSTAMP:20260425T173539Z
URL:https://hbaeci.org/events/details/understanding-2015-irc-wall-bracing-seminar-160
END:VEVENT

END:VCALENDAR
