BEGIN:VCALENDAR
VERSION:2.0
PRODID:-//ChamberMaster//Event Calendar 2.0//EN
METHOD:PUBLISH
X-PUBLISHED-TTL:P3D
REFRESH-INTERVAL:P3D
CALSCALE:GREGORIAN
BEGIN:VEVENT
DTSTART:20190922T150000Z
DTEND:20190922T230000Z
X-MICROSOFT-CDO-ALLDAYEVENT:FALSE
SUMMARY:Showcase Parade of Homes 2019
DESCRIPTION:The members of the Home Builders Association of East Central Illinois invite you to join us for our Annual Showcase Parade of Homes\, returning September 20-22 and September 27-29. This event is the premier residential new construction open house event in Champaign County!\n\nOur association has been building this community for over 60 years and we are proud to present the highest quality builders and contractors offering you a wide variety of housing options with many exciting new innovations and designs!\n\nSee the best in home building by visiting these beautiful model homes filled with the latest trends in outdoor living areas\, decorating styles\, gourmet kitchens\, state-of-the-art audio/video technology and the newest advancements in green building for energy conservation and sustainability.\n\nFor ALL the event details\, to purchase tickets and a detailed map\, visit www.ShowcaseParadeofHomes.com.
X-ALT-DESC;FMTTYPE=text/html:<p style="margin: 0px 0px 10px\; padding: 0px\; border: 0px\; box-sizing: border-box\; font-variant-numeric: inherit\; font-variant-east-asian: inherit\; font-stretch: inherit\; font-size: 14px\; line-height: inherit\; font-family: Roboto\, Calibri\, Candara\, Arial\, sans-serif\; vertical-align: baseline\; color: rgb(58\, 58\, 58)\;"><span style="font-size:14px\;"><span style="font-family:tahoma\;">The members of the Home Builders Association of East Central Illinois invite you to join us for our Annual Showcase Parade of Homes\, returning September 20-22 and September 27-29. This event is the premier residential new construction open house event in Champaign County!</span></span></p>\n\n<p style="margin: 0px 0px 10px\; padding: 0px\; border: 0px\; box-sizing: border-box\; font-variant-numeric: inherit\; font-variant-east-asian: inherit\; font-stretch: inherit\; font-size: 14px\; line-height: inherit\; font-family: Roboto\, Calibri\, Candara\, Arial\, sans-serif\; vertical-align: baseline\; color: rgb(58\, 58\, 58)\;"><span style="font-size:14px\;"><span style="font-family:tahoma\;">Our association has been building this community for over 60 years and we are proud to present the highest quality builders and contractors offering you a wide variety of housing options with many exciting new innovations and designs!</span></span></p>\n\n<p style="margin: 0px 0px 10px\; padding: 0px\; border: 0px\; box-sizing: border-box\; font-variant-numeric: inherit\; font-variant-east-asian: inherit\; font-stretch: inherit\; font-size: 14px\; line-height: inherit\; font-family: Roboto\, Calibri\, Candara\, Arial\, sans-serif\; vertical-align: baseline\; color: rgb(58\, 58\, 58)\;"><span style="font-size:14px\;"><span style="font-family:tahoma\;">See the best in home building by visiting these beautiful model homes filled with the latest trends in outdoor living areas\, decorating styles\, gourmet kitchens\, state-of-the-art audio/video technology and the newest advancements in green building for energy conservation and sustainability.</span></span></p>\n\n<p style="margin: 0px 0px 10px\; padding: 0px\; border: 0px\; box-sizing: border-box\; font-variant-numeric: inherit\; font-variant-east-asian: inherit\; font-stretch: inherit\; font-size: 14px\; line-height: inherit\; font-family: Roboto\, Calibri\, Candara\, Arial\, sans-serif\; vertical-align: baseline\; color: rgb(58\, 58\, 58)\;"><span style="font-size:14px\;"><span style="font-family:tahoma\;">For ALL the event details\, to purchase tickets and a detailed map\, visit www.ShowcaseParadeofHomes.com.</span></span></p>\n
LOCATION:Conway Farms\, Mahomet & Southridge\, Urbana
UID:e.9422.181
SEQUENCE:3
DTSTAMP:20260423T220640Z
URL:https://hbaeci.org/events/details/showcase-parade-of-homes-2019-09-22-2019-181
END:VEVENT

END:VCALENDAR
