BEGIN:VCALENDAR
VERSION:2.0
PRODID:-//ChamberMaster//Event Calendar 2.0//EN
METHOD:PUBLISH
X-PUBLISHED-TTL:P3D
REFRESH-INTERVAL:P3D
CALSCALE:GREGORIAN
BEGIN:VEVENT
DTSTART:20200227T173000Z
DTEND:20200227T190000Z
X-MICROSOFT-CDO-ALLDAYEVENT:FALSE
SUMMARY:HBAECI Membership Luncheon
DESCRIPTION:Join us in celebrating another great year at our Annual Membership Luncheon!\n\n\n\nThe 2020 Board of Directors will be introduced and inducted\, along with a recap of 2019 and an exciting preview of all things 2020.\n\n\n\nAlso a great opportunity to network with fellow HBAECI members.
X-ALT-DESC;FMTTYPE=text/html:Join us in celebrating another great year at our Annual Membership Luncheon!<br />\n<br />\nThe&nbsp\;2020 Board of Directors will be introduced and inducted\, along with a recap of 2019 and an exciting preview of all things 2020.<br />\n<br />\nAlso a great opportunity to network with fellow HBAECI members.
LOCATION:Lodgic EveryDay Community (1807 S Neil\, Champaign)
UID:e.9422.192
SEQUENCE:3
DTSTAMP:20260423T143758Z
URL:https://hbaeci.org/events/details/hbaeci-membership-luncheon-192
END:VEVENT

END:VCALENDAR
