BEGIN:VCALENDAR
VERSION:2.0
PRODID:-//ChamberMaster//Event Calendar 2.0//EN
METHOD:PUBLISH
X-PUBLISHED-TTL:P3D
REFRESH-INTERVAL:P3D
CALSCALE:GREGORIAN
BEGIN:VEVENT
DTSTART:20171003T130000Z
DTEND:20171003T160000Z
X-MICROSOFT-CDO-ALLDAYEVENT:FALSE
SUMMARY:Energy Construction Code Update Seminar
DESCRIPTION:2015 IECC EFFECTIVE JANUARY 1\, 2016 \n\nARE YOU UP TO DATE ON THE NEW ENERGY CONSTRUCTION CODES FOR ILLINOIS?\n\nJoin Illinois home builder\, Brian Flaherty of Flaherty Builders\, for an event designed to network and provide the home-building and construction community with a "Builder's perspective" in  a quick\, breakfast download of the RESIDENTIAL provisions of Illinois Energy Conservation Code with updates to the 2018 International Energy Conservation Code (IECC). Stay for breakfast and receive a copy of the 2018 IECC FREE!\n\nEvents designed by the Illinois Office of Energy & Recycling for the Illinois construction industry to improve compliance with the 2015 IECC and ASHRAE 90.12013.\n\nThese seminars provide the basis for the correct use of the 2015 IECC and Standard 90.1-2013 in the design\, construction\, plan review\, field inspection and performance analysis of buildings statewide.\n\nTopics covered include:   IECC 2015\, IECC 2018   Chicago Energy Conservation Code   Blower door & duct pressure tests   HVAC Load Calculations   REScheckTM\, COMcheckTM\, REM/RateTM
X-ALT-DESC;FMTTYPE=text/html:2015 IECC EFFECTIVE JANUARY 1\, 2016&nbsp\;<br />\nARE YOU UP TO DATE ON THE NEW ENERGY CONSTRUCTION CODES FOR ILLINOIS?<br />\nJoin Illinois home builder\, Brian Flaherty of Flaherty Builders\, for an event designed to network and provide the home-building and construction community with a &ldquo\;Builder&rsquo\;s perspective&rdquo\; in &nbsp\;a quick\, breakfast download of the RESIDENTIAL provisions of Illinois Energy Conservation Code with updates to the 2018 International Energy Conservation Code (IECC). Stay for breakfast and receive a copy of the 2018 IECC FREE!<br />\nEvents designed by the Illinois Office of Energy &amp\; Recycling for the Illinois construction industry to improve compliance with the 2015 IECC and ASHRAE 90.12013.<br />\nThese seminars provide the basis for the correct use of the 2015 IECC and Standard 90.1-2013 in the design\, construction\, plan review\, field inspection and performance analysis of buildings statewide.<br />\nTopics covered include: &bull\; IECC 2015\, IECC 2018 &bull\; Chicago Energy Conservation Code &bull\; Blower door &amp\; duct pressure tests &bull\; HVAC Load Calculations &bull\; REScheckTM\, COMcheckTM\, REM/RateTM
LOCATION:Heartland Community College - Normal\, IL
UID:e.9422.169
SEQUENCE:3
DTSTAMP:20260425T142547Z
URL:https://hbaeci.org/events/details/energy-construction-code-update-seminar-169
END:VEVENT

END:VCALENDAR
