BEGIN:VCALENDAR
VERSION:2.0
PRODID:-//ChamberMaster//Event Calendar 2.0//EN
METHOD:PUBLISH
X-PUBLISHED-TTL:P3D
REFRESH-INTERVAL:P3D
CALSCALE:GREGORIAN
BEGIN:VEVENT
DTSTART:20170211T000000Z
DTEND:20170211T030000Z
X-MICROSOFT-CDO-ALLDAYEVENT:FALSE
SUMMARY:Dare to Dream\, Dream to Build 2017
DESCRIPTION:HOME. \n\nHome is where your heart is most happy. \n\nHome is a place where you are loved unconditionally. \n\nHome is where you feel safe and protected. \n\nMemories happen. \n\nHome is located in the place you are best at adapting in. \n\n \n\nWe all need a place to call home. Where we thrive\, feel secure and escape from the world.\n\n \n\nDare to Dream\, Dream to Build is a collaborative effort of two local organizations focused on improving homeownership in East Central Illinois.  Our 2017 Dare to Dream\, Dream to Build will be held on February 10th at The Refinery in Champaign and we are planning this year's event will be a tremendous success.  Our goal is to raise both awareness and support of our organizations and trigger further engagement for the year ahead.
X-ALT-DESC;FMTTYPE=text/html:<strong><span style="color:#1d2129\;"><span style="font-size:10pt\;">HOME.&nbsp\;</span></span></strong><br />\n<span style="color:#1d2129\;"><span style="font-size:10pt\;">Home is where your heart is most happy.&nbsp\;</span></span><br />\n<span style="color:#1d2129\;"><span style="font-size:10pt\;">Home is a place where you are loved unconditionally.&nbsp\;</span></span><br />\n<span style="color:#1d2129\;"><span style="font-size:10pt\;">Home is where you feel safe and protected.&nbsp\;</span></span><br />\n<span style="color:#1d2129\;"><span style="font-size:10pt\;">Memories happen.&nbsp\;</span></span><br />\n<span style="color:#1d2129\;"><span style="font-size:10pt\;">Home is located in the place you are best at adapting in.&nbsp\;</span></span><br />\n&nbsp\;<br />\n<strong><u><span style="color:#1d2129\;"><span style="font-size:10pt\;">We all need a place to call home.</span></span></u></strong><span style="color:#1d2129\;"><span style="font-size:10pt\;">&nbsp\;Where we thrive\, feel secure and escape from the world.</span></span><br />\n&nbsp\;<br />\n<span style="font-size:10pt\;">Dare to Dream\, Dream to Build is a collaborative effort of two local organizations focused on improving homeownership in East Central Illinois.&nbsp\;&nbsp\;</span><span style="font-size:10pt\;">Our 2017 Dare to Dream\, Dream to Build will be held on February 10<sup>th</sup>&nbsp\;at The Refinery in Champaign and we are planning this year&rsquo\;s event will be a tremendous success.&nbsp\; Our goal is to raise both awareness and support of our organizations and trigger further engagement for the year ahead.</span><br />\n&nbsp\;
LOCATION:The Refinery in Champaign
UID:e.9422.19
SEQUENCE:3
DTSTAMP:20260426T032850Z
URL:https://hbaeci.org/events/details/dare-to-dream-dream-to-build-2017-19
END:VEVENT

END:VCALENDAR
