BEGIN:VCALENDAR
VERSION:2.0
PRODID:-//ChamberMaster//Event Calendar 2.0//EN
METHOD:PUBLISH
X-PUBLISHED-TTL:P3D
REFRESH-INTERVAL:P3D
CALSCALE:GREGORIAN
BEGIN:VEVENT
DTSTART:20170221T143000Z
DTEND:20170221T153000Z
X-MICROSOFT-CDO-ALLDAYEVENT:FALSE
SUMMARY:Coffee With A Builder - Paul Phillips
DESCRIPTION:February Featured Builder -\n\nPaul Phillips\, Armstrong Construction\n\n\n\nCoffee With A Builder\n\nYour time to get to know our local builders.  Hear what's new in our area\, the latest home trends\, upcoming developments and more.  Come ready with your questions and use the opportunity to learn more about the home builders who make our communities here in East Central Illinois a great place to live.
X-ALT-DESC;FMTTYPE=text/html:<p><span style="font-size:14px\;"><strong><u>February Featured Builder </u>-<br />\nPaul Phillips\, Armstrong Construction</strong></span><br />\n<br />\nCoffee With A Builder</p>\n\n<p>Your time to get to know our local builders. &nbsp\;Hear what&#39\;s new in our area\, the latest home trends\, upcoming developments and more. &nbsp\;Come ready with your questions and use the opportunity to learn more about the home builders who make our communities here in East Central Illinois a great place to live.</p>\n
LOCATION:Hammerhead Coffee 608 E University Ave\, Champaign\, IL 61820 Check out the menu: http://www.hammerheadcoffeeco.com/menu.html
UID:e.9422.144
SEQUENCE:3
DTSTAMP:20260426T032510Z
URL:https://hbaeci.org/events/details/coffee-with-a-builder-paul-phillips-144
END:VEVENT

END:VCALENDAR
