BEGIN:VCALENDAR
VERSION:2.0
PRODID:-//ChamberMaster//Event Calendar 2.0//EN
METHOD:PUBLISH
X-PUBLISHED-TTL:P3D
REFRESH-INTERVAL:P3D
CALSCALE:GREGORIAN
BEGIN:VEVENT
DTSTART:20170314T133000Z
DTEND:20170314T143000Z
X-MICROSOFT-CDO-ALLDAYEVENT:FALSE
SUMMARY:Coffee With A Builder - Bill Peifer
DESCRIPTION:March Featured Builder -\n\nAdam Rebholz\, Signature Homes\n\n\n\nCoffee With A Builder\n\nYour time to get to know our local builders.  Hear what's new in our area\, the latest home trends\, upcoming developments and more.  Come ready with your questions and use the opportunity to learn more about the home builders who make our communities here in East Central Illinois a great place to live.
X-ALT-DESC;FMTTYPE=text/html:<p><span style="font-size:14px\;"><strong><u>March Featured Builder </u>-<br />\nAdam Rebholz</strong></span><span style="font-size:14px\;"><strong>\, Signature Homes</strong></span><br />\n<br />\nCoffee With A Builder</p>\n\n<p>Your time to get to know our local builders. &nbsp\;Hear what&#39\;s new in our area\, the latest home trends\, upcoming developments and more. &nbsp\;Come ready with your questions and use the opportunity to learn more about the home builders who make our communities here in East Central Illinois a great place to live.</p>\n
LOCATION:March Coffee With A Builder will be held at Legends Golf Course 4551 Nicklaus Drive Champaign IL 61822 Coffee and Bagels will be provided by our host. (Thanks Bill & Adam!)
UID:e.9422.145
SEQUENCE:3
DTSTAMP:20260426T015409Z
URL:https://hbaeci.org/events/details/coffee-with-a-builder-bill-peifer-145
END:VEVENT

END:VCALENDAR
