BEGIN:VCALENDAR
VERSION:2.0
PRODID:-//ChamberMaster//Event Calendar 2.0//EN
METHOD:PUBLISH
X-PUBLISHED-TTL:P3D
REFRESH-INTERVAL:P3D
CALSCALE:GREGORIAN
BEGIN:VEVENT
DTSTART:20191119T143000Z
DTEND:20191119T153000Z
X-MICROSOFT-CDO-ALLDAYEVENT:FALSE
SUMMARY:Coffee w/HBAECI
DESCRIPTION:We are very excited to bring you Coffee with HBAECI: A New Brew for 2019!\n\n\n\nEvery 3rd Tuesday morning of the month we will meet at Lodgic EveryDay Community for an informal meeting with a featured speaker. \n\n\n\nMark your calendars now for a great educational opportunity and networking with fellow HBAECI members and their guests -- you won't want to miss this monthly event!
X-ALT-DESC;FMTTYPE=text/html:<span style="color: rgb(29\, 33\, 41)\; font-family: system-ui\, -apple-system\, system-ui\, &quot\;.SFNSText-Regular&quot\;\, sans-serif\; font-size: 14px\; white-space: pre-wrap\;">We are very excited to bring you Coffee with HBAECI: A New Brew for 2019!</span><br />\n<br style="color: rgb(29\, 33\, 41)\; font-family: system-ui\, -apple-system\, system-ui\, &quot\;.SFNSText-Regular&quot\;\, sans-serif\; font-size: 14px\; white-space: pre-wrap\;" />\n<span style="color: rgb(29\, 33\, 41)\; font-family: system-ui\, -apple-system\, system-ui\, &quot\;.SFNSText-Regular&quot\;\, sans-serif\; font-size: 14px\; white-space: pre-wrap\;">Every 3rd Tuesday morning of the month we will meet at <a href="https://www.lodgic.org/">Lodgic EveryDay Community</a> for an informal meeting with a featured speaker. </span><br style="color: rgb(29\, 33\, 41)\; font-family: system-ui\, -apple-system\, system-ui\, &quot\;.SFNSText-Regular&quot\;\, sans-serif\; font-size: 14px\; white-space: pre-wrap\;" />\n<br style="color: rgb(29\, 33\, 41)\; font-family: system-ui\, -apple-system\, system-ui\, &quot\;.SFNSText-Regular&quot\;\, sans-serif\; font-size: 14px\; white-space: pre-wrap\;" />\n<span style="color: rgb(29\, 33\, 41)\; font-family: system-ui\, -apple-system\, system-ui\, &quot\;.SFNSText-Regular&quot\;\, sans-serif\; font-size: 14px\; white-space: pre-wrap\;">Mark your calendars now for a great educational opportunity and networking with fellow HBAECI members and their guests -- you won&#39\;t want to miss this monthly event!</span><br style="color: rgb(29\, 33\, 41)\; font-family: system-ui\, -apple-system\, system-ui\, &quot\;.SFNSText-Regular&quot\;\, sans-serif\; font-size: 14px\; white-space: pre-wrap\;" />\n<br style="color: rgb(29\, 33\, 41)\; font-family: system-ui\, -apple-system\, system-ui\, &quot\;.SFNSText-Regular&quot\;\, sans-serif\; font-size: 14px\; white-space: pre-wrap\;" />\n&nbsp\;
LOCATION:Lodgic EveryDay Community 1807 S Neil\, Champaign
UID:e.9422.187
SEQUENCE:3
DTSTAMP:20260423T191140Z
URL:https://hbaeci.org/events/details/coffee-w-hbaeci-11-19-2019-187
END:VEVENT

END:VCALENDAR
