BEGIN:VCALENDAR
VERSION:2.0
PRODID:-//ChamberMaster//Event Calendar 2.0//EN
METHOD:PUBLISH
X-PUBLISHED-TTL:P3D
REFRESH-INTERVAL:P3D
CALSCALE:GREGORIAN
BEGIN:VEVENT
DTSTART:20170427T170000Z
DTEND:20170427T180000Z
X-MICROSOFT-CDO-ALLDAYEVENT:FALSE
SUMMARY:April Membership Luncheon
DESCRIPTION:Special Guest - Bill Ward\, Executive Officer HBAI - will be joining us to share details of our upcoming Lobby Day.  Ensure you have the most up-to-date information about Senate Bill 09 and other current initiatives working the way through our Legistative process.
X-ALT-DESC;FMTTYPE=text/html:Special Guest - Bill Ward\, Executive Officer&nbsp\;HBAI&nbsp\;- will be joining us to share details of our upcoming Lobby Day. &nbsp\;Ensure you have the most up-to-date information about Senate Bill 09 and other current initiatives working the way through our Legistative process.
LOCATION:Papadel's @ 1201 S Neil St\, Champaign\, IL 61820
UID:e.9422.158
SEQUENCE:3
DTSTAMP:20260426T002400Z
URL:https://hbaeci.org/events/details/april-membership-luncheon-158
END:VEVENT

END:VCALENDAR
