BEGIN:VCALENDAR
VERSION:2.0
PRODID:-//ChamberMaster//Event Calendar 2.0//EN
METHOD:PUBLISH
X-PUBLISHED-TTL:P3D
REFRESH-INTERVAL:P3D
CALSCALE:GREGORIAN
BEGIN:VEVENT
DTSTART:20190125T173000Z
DTEND:20190125T190000Z
X-MICROSOFT-CDO-ALLDAYEVENT:FALSE
SUMMARY:Annual Membership Luncheon
DESCRIPTION:Join us in celebrating another great year at our Annual Membership Luncheon.\n\n\n\n2019 Board of Directors will be introduced and inducted\, along with a recap of 2018 and an exciting preview of 2019.\n\nAlso a great opportunity to network with fellow HBAECI members.
X-ALT-DESC;FMTTYPE=text/html:<span style="font-family:arial\;"><span style="color: rgb(67\, 64\, 77)\; font-size: 16px\;">Join us in celebrating another great year at our Annual Membership Luncheon.</span><br />\n<br style="color: rgb(67\, 64\, 77)\; font-family: Georgia\; font-size: 16px\;" />\n<span style="color: rgb(67\, 64\, 77)\; font-size: 16px\;">2019 Board of Directors will be introduced and inducted\, along with a recap of 2018 and an exciting preview of 2019.</span><br style="color: rgb(67\, 64\, 77)\; font-family: Georgia\; font-size: 16px\;" />\n<span style="color: rgb(67\, 64\, 77)\; font-size: 16px\;">Also a great opportunity to network with fellow HBAECI members.</span></span>
LOCATION:Lodgic EveryDay Community 1801 S Neil\, Champaign
UID:e.9422.178
SEQUENCE:3
DTSTAMP:20260424T120621Z
URL:https://hbaeci.org/events/details/annual-membership-luncheon-178
END:VEVENT

END:VCALENDAR
