BEGIN:VCALENDAR
VERSION:2.0
PRODID:-//ChamberMaster//Event Calendar 2.0//EN
METHOD:PUBLISH
X-PUBLISHED-TTL:P3D
REFRESH-INTERVAL:P3D
CALSCALE:GREGORIAN
BEGIN:VEVENT
DTSTART:20191025T163000Z
DTEND:20191025T213000Z
X-MICROSOFT-CDO-ALLDAYEVENT:FALSE
SUMMARY:Annual Clay Shoot
DESCRIPTION:2nd Annual Home Builders Association of Ea Central IL Clay Shoot\n\n\nParticipants needs to bring their own ammunition\, gun and personal protective equipment\n\nBeginners\, Novices\, & Experts Welcome!\n\n\n\nBUSINESS SPONSORSHIP OPPORTUNITIES AVAILABLE!!\n\n\n\nWHO DO YOU KNOW THAT WOULD BE INTERESTED? \n\nHelp us spread the word - you don't want to miss this event.
X-ALT-DESC;FMTTYPE=text/html:<h1 class="_5gmx" data-testid="event-permalink-event-name" id="seo_h1_tag" style="color: rgb(29\, 33\, 41)\; font-size: 20px\; margin: 0px 12px 0px 0px\; padding: 0px\; line-height: 28px\; font-family: system-ui\, -apple-system\, system-ui\, &quot\;.SFNSText-Regular&quot\;\, sans-serif\;">2nd Annual Home Builders Association of Ea Central IL Clay Shoot</h1>\n<br />\n<span style="color: rgb(29\, 33\, 41)\; font-family: system-ui\, -apple-system\, system-ui\, &quot\;.SFNSText-Regular&quot\;\, sans-serif\; font-size: 14px\; white-space: pre-wrap\;">Participants needs to bring their own ammunition\, gun and personal protective equipment</span><br style="color: rgb(29\, 33\, 41)\; font-family: system-ui\, -apple-system\, system-ui\, &quot\;.SFNSText-Regular&quot\;\, sans-serif\; font-size: 14px\; white-space: pre-wrap\;" />\n<span style="color: rgb(29\, 33\, 41)\; font-family: system-ui\, -apple-system\, system-ui\, &quot\;.SFNSText-Regular&quot\;\, sans-serif\; font-size: 14px\; white-space: pre-wrap\;">Beginners\, Novices\, &amp\; Experts Welcome!</span><br style="color: rgb(29\, 33\, 41)\; font-family: system-ui\, -apple-system\, system-ui\, &quot\;.SFNSText-Regular&quot\;\, sans-serif\; font-size: 14px\; white-space: pre-wrap\;" />\n<br style="color: rgb(29\, 33\, 41)\; font-family: system-ui\, -apple-system\, system-ui\, &quot\;.SFNSText-Regular&quot\;\, sans-serif\; font-size: 14px\; white-space: pre-wrap\;" />\n<span style="color: rgb(29\, 33\, 41)\; font-family: system-ui\, -apple-system\, system-ui\, &quot\;.SFNSText-Regular&quot\;\, sans-serif\; font-size: 14px\; white-space: pre-wrap\;">BUSINESS SPONSORSHIP OPPORTUNITIES AVAILABLE!!</span><br style="color: rgb(29\, 33\, 41)\; font-family: system-ui\, -apple-system\, system-ui\, &quot\;.SFNSText-Regular&quot\;\, sans-serif\; font-size: 14px\; white-space: pre-wrap\;" />\n<br />\n<span style="color: rgb(29\, 33\, 41)\; font-family: system-ui\, -apple-system\, system-ui\, &quot\;.SFNSText-Regular&quot\;\, sans-serif\; font-size: 14px\; white-space: pre-wrap\;">WHO DO YOU KNOW THAT WOULD BE INTERESTED? </span><br style="color: rgb(29\, 33\, 41)\; font-family: system-ui\, -apple-system\, system-ui\, &quot\;.SFNSText-Regular&quot\;\, sans-serif\; font-size: 14px\; white-space: pre-wrap\;" />\n<span style="color: rgb(29\, 33\, 41)\; font-family: system-ui\, -apple-system\, system-ui\, &quot\;.SFNSText-Regular&quot\;\, sans-serif\; font-size: 14px\; white-space: pre-wrap\;">Help us spread the word - you don&#39\;t want to miss this event.</span>
LOCATION:The Old Barn Sporting Clays 26628 State Highway 133\, Oakland\, Illinois 61943
UID:e.9422.185
SEQUENCE:3
DTSTAMP:20260423T202911Z
URL:https://hbaeci.org/events/details/annual-clay-shoot-185
END:VEVENT

END:VCALENDAR
