BEGIN:VCALENDAR
VERSION:2.0
PRODID:-//ChamberMaster//Event Calendar 2.0//EN
METHOD:PUBLISH
X-PUBLISHED-TTL:P3D
REFRESH-INTERVAL:P3D
CALSCALE:GREGORIAN
BEGIN:VEVENT
DTSTART:20170417T170000Z
DTEND:20170417T183000Z
X-MICROSOFT-CDO-ALLDAYEVENT:FALSE
SUMMARY:2017 Code Luncheon - Builders & Contractors
DESCRIPTION:
X-ALT-DESC;FMTTYPE=text/html:
LOCATION:Champaign Public Library Meeting Rooms A/B
UID:e.9422.159
SEQUENCE:3
DTSTAMP:20260426T001922Z
URL:https://hbaeci.org/events/details/2017-code-luncheon-builders-contractors-159
END:VEVENT

END:VCALENDAR
